BEGIN:VCALENDAR
VERSION:2.0
PRODID:-//SVP Wahlkreis Bern Mittelland Nord //NONSGML Events //EN
CALSCALE:GREGORIAN
X-WR-CALNAME:SVP Wahlkreis Bern Mittelland Nord
BEGIN:VEVENT
CREATED:20251203T095830Z
UID:2851
DTEND:20261013T210000
DTSTART:20261013T200000
DTSTAMP:20260422T161521Z
LOCATION:
DESCRIPTION:
SUMMARY:Delegiertenversammlung SVP Kanton Bern
ORGANIZER:
URL;VALUE=URI:https://www.svp-mittelland-nord.ch/aktuell/termine/delegiertenversammlung-svp-kanton-bern-27/
TRANSP:OPAQUE
END:VEVENT
END:VCALENDAR
