BEGIN:VCALENDAR
VERSION:2.0
PRODID:-//SVP Wahlkreis Bern Mittelland Nord //NONSGML Events //EN
CALSCALE:GREGORIAN
X-WR-CALNAME:SVP Wahlkreis Bern Mittelland Nord
BEGIN:VEVENT
CREATED:20241105T085955Z
UID:2122
DTEND:20241113T210000
DTSTART:20241113T200000
DTSTAMP:20260420T232952Z
LOCATION:Bären Dürrenroth
DESCRIPTION:
SUMMARY:SVP Dürrenroth &#8211\; Öffentliches Referat mit GR Martin Lerch
ORGANIZER:
URL;VALUE=URI:https://www.svp-mittelland-nord.ch/aktuell/termine/svp-duerrenroth-oeffentliches-referat-mit-gr-martin-lerch/
TRANSP:OPAQUE
END:VEVENT
END:VCALENDAR
