BEGIN:VCALENDAR
VERSION:2.0
PRODID:-//SVP Wahlkreis Bern Mittelland Nord //NONSGML Events //EN
CALSCALE:GREGORIAN
X-WR-CALNAME:SVP Wahlkreis Bern Mittelland Nord
BEGIN:VEVENT
CREATED:20220803T074353Z
UID:1567
DTEND:20230505T000000
DTSTART:20230502T000000
DTSTAMP:20260422T053819Z
LOCATION:
DESCRIPTION:
SUMMARY:Start: Eidg. Sondersession
ORGANIZER:
URL;VALUE=URI:https://www.svp-mittelland-nord.ch/aktuell/termine/start-eidg-sondersession-4/
TRANSP:OPAQUE
END:VEVENT
END:VCALENDAR
